BEGIN:VCALENDAR
VERSION:2.0
PRODID:-//Paroisse Saint Pierre - Saint Paul et Saint Joseph de Clamart - ECPv6.15.20//NONSGML v1.0//EN
CALSCALE:GREGORIAN
METHOD:PUBLISH
X-ORIGINAL-URL:https://clamart.catholique.fr
X-WR-CALDESC:Évènements pour Paroisse Saint Pierre - Saint Paul et Saint Joseph de Clamart
REFRESH-INTERVAL;VALUE=DURATION:PT1H
X-Robots-Tag:noindex
X-PUBLISHED-TTL:PT1H
BEGIN:VTIMEZONE
TZID:Europe/Paris
BEGIN:DAYLIGHT
TZOFFSETFROM:+0100
TZOFFSETTO:+0200
TZNAME:CEST
DTSTART:20250330T010000
END:DAYLIGHT
BEGIN:STANDARD
TZOFFSETFROM:+0200
TZOFFSETTO:+0100
TZNAME:CET
DTSTART:20251026T010000
END:STANDARD
BEGIN:DAYLIGHT
TZOFFSETFROM:+0100
TZOFFSETTO:+0200
TZNAME:CEST
DTSTART:20260329T010000
END:DAYLIGHT
BEGIN:STANDARD
TZOFFSETFROM:+0200
TZOFFSETTO:+0100
TZNAME:CET
DTSTART:20261025T010000
END:STANDARD
BEGIN:DAYLIGHT
TZOFFSETFROM:+0100
TZOFFSETTO:+0200
TZNAME:CEST
DTSTART:20270328T010000
END:DAYLIGHT
BEGIN:STANDARD
TZOFFSETFROM:+0200
TZOFFSETTO:+0100
TZNAME:CET
DTSTART:20271031T010000
END:STANDARD
END:VTIMEZONE
BEGIN:VEVENT
DTSTART;VALUE=DATE:20260419
DTEND;VALUE=DATE:20260420
DTSTAMP:20260421T035233
CREATED:20260415T152914Z
LAST-MODIFIED:20260415T152914Z
UID:22503-1776556800-1776643199@clamart.catholique.fr
SUMMARY:Prions pour nos néophytes
DESCRIPTION:Ce dimanche 19 avril\, les néophytes de notre paroisse rencontreront notre évêque.
URL:https://clamart.catholique.fr/event/prions-pour-nos-neophytes/
CATEGORIES:Vie de la paroisse info
ATTACH;FMTTYPE=image/jpeg:https://clamart.catholique.fr/wp-content/uploads/2026/04/Prions.jpg
END:VEVENT
BEGIN:VEVENT
DTSTART;VALUE=DATE:20260418
DTEND;VALUE=DATE:20260419
DTSTAMP:20260421T035233
CREATED:20260409T161425Z
LAST-MODIFIED:20260409T161425Z
UID:22466-1776470400-1776556799@clamart.catholique.fr
SUMMARY:Conférence LISTEN!
DESCRIPTION:Samedi 18 Avril\, 14h\, paroisse Saint Vincent de Paul – 94 Boulevard Jean Jaurès\, 92110 Clichy \n2ème édition de la Conférence LISTEN! qui aura pour thème « Donne-moi la forme qui Te plaît ». C’est un événement proposé pour les femmes en désir de grandir dans leur proximité avec le Christ. Au programme : enseignements basés sur la parole de Dieu\, partages entre femmes\, témoignages\, louange\, adoration et pause gourmande. \nInscription obligatoire : https://my.weezevent.com/conference-listen-2
URL:https://clamart.catholique.fr/event/conference-listen/
CATEGORIES:Au-delà info
ATTACH;FMTTYPE=image/jpeg:https://clamart.catholique.fr/wp-content/uploads/2026/04/Capture-decran-2026-04-09-174047.jpg
END:VEVENT
BEGIN:VEVENT
DTSTART;VALUE=DATE:20260417
DTEND;VALUE=DATE:20260418
DTSTAMP:20260421T035233
CREATED:20260402T115517Z
LAST-MODIFIED:20260412T160721Z
UID:22362-1776384000-1776470399@clamart.catholique.fr
SUMMARY:Évangélisation de rue
DESCRIPTION:Vendredi 17 avril\, 20h30\, église Saint Pierre Saint Paul \nJésus compte sur nous pour aller deux par deux l’annoncer aux Clamartois qui ne le connaissent pas encore ou qui l’ont oublié !
URL:https://clamart.catholique.fr/event/evangelisation-de-rue-4/
CATEGORIES:Vie de la paroisse top
ATTACH;FMTTYPE=image/png:https://clamart.catholique.fr/wp-content/uploads/2025/12/evangelisation-de-rue-1.png
END:VEVENT
BEGIN:VEVENT
DTSTART;VALUE=DATE:20260415
DTEND;VALUE=DATE:20260416
DTSTAMP:20260421T035233
CREATED:20260409T153855Z
LAST-MODIFIED:20260409T153855Z
UID:22463-1776211200-1776297599@clamart.catholique.fr
SUMMARY:Conférence « Un Concile en Île-de-France : Catéchumènes et Néophytes\, de nouvelles perspectives pour la vie de l’Église »
DESCRIPTION:Mercredi 15 avril 2026\, 19h30\, 3 place Saint Thomas d’Aquin 75007 Paris \nConférence de Geneviève Verdaguer au centre pour l’intelligence de la foi. \nLa conférence a pour objet de mieux comprendre la réalité de cette dynamique catéchuménale\, d’en préciser les caractéristiques\, de montrer le processus synodal à l’œuvre et d’en souligner quelques aspects théologiques fondamentaux. \nGeneviève Verdaguer\, membre du comité de pilotage du concile\, nous fait la très grande joie de venir partager avec nous sa réflexion sur le sujet. Venez nombreux pour l’écouter et pour débattre avec elle. Conférence gratuite. Inscription recommandée sur le site du CIF : https://www.lecif.fr/
URL:https://clamart.catholique.fr/event/conference-un-concile-en-ile-de-france-catechumenes-et-neophytes-de-nouvelles-perspectives-pour-la-vie-de-leglise/
CATEGORIES:Au-delà info
ATTACH;FMTTYPE=image/webp:https://clamart.catholique.fr/wp-content/uploads/2026/04/cropped-cropped-logo-cif-2021.webp
END:VEVENT
BEGIN:VEVENT
DTSTART;VALUE=DATE:20260414
DTEND;VALUE=DATE:20260415
DTSTAMP:20260421T035233
CREATED:20260409T153518Z
LAST-MODIFIED:20260415T155809Z
UID:22460-1776124800-1776211199@clamart.catholique.fr
SUMMARY:Pièce de théâtre « Sainte-Marguerite-Marie et moi »
DESCRIPTION:Mardi 14 avril\, 20h30\, paroisse Sainte-Cécile – 44 rue de l’Est\, 92100 Boulogne-Billancourt \nDans ce seul en scène\, Clémentine\, prof de fac agnostique\, découvre que la sainte de Paray-Le-Monial est son ancêtre et plonge dans sa vie entre extases\, visions et dialogues musclés avec Jésus\, tout en essayant de comprendre ce que cela peut bien vouloir nous dire aujourd’hui. \nRéservations : https://www.billetweb.fr/sainte-marguerite-marie-et-moi
URL:https://clamart.catholique.fr/event/piece-de-theatre-sainte-marguerite-marie-et-moi/
ATTACH;FMTTYPE=image/jpeg:https://clamart.catholique.fr/wp-content/uploads/2026/04/Capture-decran-2026-04-09-173446.jpg
END:VEVENT
BEGIN:VEVENT
DTSTART;VALUE=DATE:20260412
DTEND;VALUE=DATE:20260413
DTSTAMP:20260421T035233
CREATED:20260402T122612Z
LAST-MODIFIED:20260412T160401Z
UID:22382-1775952000-1776038399@clamart.catholique.fr
SUMMARY:Aumônerie étudiants
DESCRIPTION:Dimanche 12 avril\, après la messe de 18h\, Crypte de l’église St Joseph \nUn dimanche par mois\, après la messe animée par Ochaclap\, les étudiants sont invités à se retrouver pour un repas partagé\, un temps de réflexion et de prière. Intéressé ? Rejoignez-nous ! (pas d’inscription préalable). Contact : Marc-Elie et Alexandra – marc.boutrolle@free.fr
URL:https://clamart.catholique.fr/event/aumonerie-etudiants/
ATTACH;FMTTYPE=image/png:https://clamart.catholique.fr/wp-content/uploads/2025/03/groupe-etudiants.png
END:VEVENT
BEGIN:VEVENT
DTSTART;VALUE=DATE:20260412
DTEND;VALUE=DATE:20260413
DTSTAMP:20260421T035233
CREATED:20260402T122403Z
LAST-MODIFIED:20260412T160348Z
UID:22380-1775952000-1776038399@clamart.catholique.fr
SUMMARY:Ochaclap
DESCRIPTION:Dimanche 12 avril\, 15h-18h\, St Pierre-St Paul et St Joseph \nMesse de 18h à l’église St Joseph animée par Ochaclap.
URL:https://clamart.catholique.fr/event/ochaclap-4/
ATTACH;FMTTYPE=image/jpeg:https://clamart.catholique.fr/wp-content/uploads/2019/09/Ochaclap-Logo.jpg
END:VEVENT
BEGIN:VEVENT
DTSTART;VALUE=DATE:20260412
DTEND;VALUE=DATE:20260413
DTSTAMP:20260421T035233
CREATED:20260402T121641Z
LAST-MODIFIED:20260412T160343Z
UID:22378-1775952000-1776038399@clamart.catholique.fr
SUMMARY:Table Ouverte Paroissiale (TOP)
DESCRIPTION:Dimanche 12 avril\, à partir de 12h\, Espace Saint Jo \nSi vous vous sentez seul\, venez nous rejoindre autour d’un repas amical. Le thème est la fête des cerisiers. Si le cœur vous en dit\, vous pouvez apporter un dessert. Contact : 06 71 32 81 51
URL:https://clamart.catholique.fr/event/table-ouverte-paroissiale-top-3/
ATTACH;FMTTYPE=image/png:https://clamart.catholique.fr/wp-content/uploads/2025/03/top.png
END:VEVENT
BEGIN:VEVENT
DTSTART;VALUE=DATE:20260412
DTEND;VALUE=DATE:20260413
DTSTAMP:20260421T035233
CREATED:20260327T110125Z
LAST-MODIFIED:20260414T060238Z
UID:22324-1775952000-1776038399@clamart.catholique.fr
SUMMARY:Handi'Manche
DESCRIPTION:Dimanche 12 avril\, 11h-16h30\, église Saint Remy (17 place de la République\, Vanves) \nPour personnes en situation de handicap\, famille et amis. Messe\, repas en commun\, forum « Eglise et Handicap » et groupe de louange. Informations : handimanche2026-vanves.venio.fr/fr
URL:https://clamart.catholique.fr/event/handimanche/
ATTACH;FMTTYPE=image/png:https://clamart.catholique.fr/wp-content/uploads/2026/01/information.png
END:VEVENT
BEGIN:VEVENT
DTSTART;VALUE=DATE:20260412
DTEND;VALUE=DATE:20260413
DTSTAMP:20260421T035233
CREATED:20250817T195856Z
LAST-MODIFIED:20260412T160332Z
UID:20160-1775952000-1776038399@clamart.catholique.fr
SUMMARY:Messe des enfants
DESCRIPTION:Dimanche 12 avril\, 10h\, église St Joseph \nNous invitons tous les enfants à cette messe qui leur sera spécialement adaptée. \nRépétition des chants pour les enfants.15 min avant la messe.
URL:https://clamart.catholique.fr/event/messe-des-enfants-2-2/
CATEGORIES:Vie de la paroisse
ATTACH;FMTTYPE=image/jpeg:https://clamart.catholique.fr/wp-content/uploads/2024/07/20240630_112542-scaled.jpg
END:VEVENT
BEGIN:VEVENT
DTSTART;VALUE=DATE:20260411
DTEND;VALUE=DATE:20260412
DTSTAMP:20260421T035233
CREATED:20260327T105337Z
LAST-MODIFIED:20260412T160418Z
UID:22316-1775865600-1775951999@clamart.catholique.fr
SUMMARY:Concert de la chorale « AJC »
DESCRIPTION:Samedi 11 avril\, 20h30\, église Saint Pierre Saint Paul \nLa chorale AJC vous propose un florilège d’œuvres chorales de Couperin à César Franck. \nEntrée libre
URL:https://clamart.catholique.fr/event/concert-de-la-chorale-ajc/
ATTACH;FMTTYPE=image/jpeg:https://clamart.catholique.fr/wp-content/uploads/2026/03/concert.jpg
END:VEVENT
BEGIN:VEVENT
DTSTART;VALUE=DATE:20260411
DTEND;VALUE=DATE:20260412
DTSTAMP:20260421T035233
CREATED:20250817T192117Z
LAST-MODIFIED:20260412T160326Z
UID:20153-1775865600-1775951999@clamart.catholique.fr
SUMMARY:Ciné-débats des Collégiens
DESCRIPTION:Samedi 11 avril\, 18h\, crypte Saint Joseph \nLe ciné débat passera le film « The Truman Show »\, une interrogation sur la manière dont la société peut façonner les perceptions d’un individu et comment il peut s’en libérer. \nInscrivez-vous et venez débattre avec les autres collégiens après avoir partagé une pizza ! \nContact : Céline – cine-debat@clamart-catholique.fr
URL:https://clamart.catholique.fr/event/cine-debats-des-collegiens-7-2-2-2-2/
CATEGORIES:Vie de la paroisse
ATTACH;FMTTYPE=image/png:https://clamart.catholique.fr/wp-content/uploads/2024/09/Post-Instagram-Facebook-plaisirs-de-lete-fenetre-ouverte-photo-vert-2.png
END:VEVENT
BEGIN:VEVENT
DTSTART;VALUE=DATE:20260410
DTEND;VALUE=DATE:20260412
DTSTAMP:20260421T035233
CREATED:20250817T192327Z
LAST-MODIFIED:20260412T160337Z
UID:20152-1775779200-1775951999@clamart.catholique.fr
SUMMARY:24h d’adoration
DESCRIPTION:Du vendredi 10 avril\, 9h30\, au samedi 11 avril\, 9h30\, église St Pierre-St Paul \nInscription : https://clamart.catholique.fr/adoration/ \nContacts : adorationclamart@gmail.com – Laure : 06 49 44 78 49 – Blandine : 07 69 58 44 80
URL:https://clamart.catholique.fr/event/24h-dadoration/
CATEGORIES:Vie de la paroisse
ATTACH;FMTTYPE=image/png:https://clamart.catholique.fr/wp-content/uploads/2024/09/Post-Instagram-Facebook-plaisirs-de-lete-fenetre-ouverte-photo-vert-1.png
END:VEVENT
BEGIN:VEVENT
DTSTART;VALUE=DATE:20260410
DTEND;VALUE=DATE:20260411
DTSTAMP:20260421T035233
CREATED:20260327T104852Z
LAST-MODIFIED:20260412T160407Z
UID:22311-1775779200-1775865599@clamart.catholique.fr
SUMMARY:Veillée de prière et de louange « Venez et voyez »
DESCRIPTION:Vendredi 10 avril\, 20h45\, église St Joseph  \nIl y aura 3 moments forts : un temps de louange\, où l’Esprit-Saint ouvre les cœurs\, un temps de la Parole\, un temps d’Adoration où l’on peut vivre un temps de cœur à cœur avec Jésus. \nA chaque veillée\, la Confession et la Prière des Frères vous sont toujours proposées.
URL:https://clamart.catholique.fr/event/veillee-de-priere-et-de-louange-venez-et-voyez/
ATTACH;FMTTYPE=image/jpeg:https://clamart.catholique.fr/wp-content/uploads/2025/08/venez-et-voyer.jpg
END:VEVENT
BEGIN:VEVENT
DTSTART;VALUE=DATE:20260409
DTEND;VALUE=DATE:20260410
DTSTAMP:20260421T035233
CREATED:20260402T120734Z
LAST-MODIFIED:20260412T160353Z
UID:22369-1775692800-1775779199@clamart.catholique.fr
SUMMARY:Groupe biblique
DESCRIPTION:Jeudi 9 avril\, 20h30-22h\, Salle Notre-Dame\, Maison paroissiale St Pierre-St Paul \nPour cette année : L’Apocalypse\, livre difficile mais bien adapté au monde actuel\, puisqu’il a pour fil conducteur : « Quand tout s’effondre\, qu’est-ce qui peut nous rassurer ? » Groupe animé par le P. Philippe Saudraix. Prévoir une Bible et un crayon.
URL:https://clamart.catholique.fr/event/groupe-biblique-6/
ATTACH;FMTTYPE=image/png:https://clamart.catholique.fr/wp-content/uploads/2025/03/groupe-biblique.png
END:VEVENT
BEGIN:VEVENT
DTSTART;VALUE=DATE:20260409
DTEND;VALUE=DATE:20260410
DTSTAMP:20260421T035233
CREATED:20260317T195108Z
LAST-MODIFIED:20260414T060058Z
UID:22262-1775692800-1775779199@clamart.catholique.fr
SUMMARY:Rencontre de Saint Jo : « Mourir chez soi n’est pas un luxe : pourquoi et comment y parvenir ? »
DESCRIPTION:Cette conférence\, particulièrement d’actualité\, s’est tenue jeudi 9 avril 2026 à l’Espace Saint-Jo. Elle a été animée par Tanguy Chatel\, sociologue et auteur de l’ouvrage « Vivants jusqu’à la mort » (éditions Albin Michel). \nUne occasion de réfléchir\, échanger et s’informer sur un sujet qui nous concerne tous.
URL:https://clamart.catholique.fr/event/rencontre-de-saint-jo-mourir-chez-soi-nest-pas-un-luxe-pourquoi-et-comment-y-parvenir/
CATEGORIES:Vie de la paroisse info
ATTACH;FMTTYPE=image/png:https://clamart.catholique.fr/wp-content/uploads/2025/04/les-rencontres-de-St-Jo.png
END:VEVENT
BEGIN:VEVENT
DTSTART;VALUE=DATE:20260407
DTEND;VALUE=DATE:20260408
DTSTAMP:20260421T035233
CREATED:20260402T121123Z
LAST-MODIFIED:20260407T181420Z
UID:22374-1775520000-1775606399@clamart.catholique.fr
SUMMARY:Parcours Timothée : Découvrez ou redécouvrez la foi chrétienne !
DESCRIPTION:Mardi 7 avril\, 20h15\, Salle Notre Dame\, Maison paroissiale St Pierre-St Paul \nOuvert à tous ceux qui démarrent ou redémarrent dans la Foi et l’Eglise. Mieux comprendre\, ensemble\, l’Église\, la messe\, la Bible… Topos\, échanges\, témoignage… Ni inscription\, ni engagement. Contact : cure@clamart.catholique.fr
URL:https://clamart.catholique.fr/event/parcours-timothee-decouvrez-ou-redecouvrez-la-foi-chretienne-4/
ATTACH;FMTTYPE=image/png:https://clamart.catholique.fr/wp-content/uploads/2025/03/parcours-Thimothee.png
END:VEVENT
BEGIN:VEVENT
DTSTART;VALUE=DATE:20260406
DTEND;VALUE=DATE:20260407
DTSTAMP:20260421T035233
CREATED:20250817T191159Z
LAST-MODIFIED:20260327T090654Z
UID:20140-1775433600-1775519999@clamart.catholique.fr
SUMMARY:Lundi de Pâques
DESCRIPTION:6 avril 2026 : Messe à 19h à St Pierre St Paul.
URL:https://clamart.catholique.fr/event/toussaint-13-26-2/
CATEGORIES:Vie de la paroisse
ATTACH;FMTTYPE=image/png:https://clamart.catholique.fr/wp-content/uploads/2025/04/Lundi-de-Paques.png
END:VEVENT
BEGIN:VEVENT
DTSTART;VALUE=DATE:20260405
DTEND;VALUE=DATE:20260406
DTSTAMP:20260421T035233
CREATED:20260317T194808Z
LAST-MODIFIED:20260407T181453Z
UID:22257-1775347200-1775433599@clamart.catholique.fr
SUMMARY:Covoiturage Semaine Sainte
DESCRIPTION:Mobilisons-nous pour permettre à nos frères et sœurs qui ont de la peine à se déplacer de vivre pleinement tous les offices de la Semaine Sainte ! Merci d’y être attentifs. On peut aussi se signaler sur le site de la paroisse ou au secrétariat en appelant le 01 41 90 11 40.
URL:https://clamart.catholique.fr/event/covoiturage-semaine-sainte/
ATTACH;FMTTYPE=image/png:https://clamart.catholique.fr/wp-content/uploads/2025/03/covoiturage-paroissial.png
END:VEVENT
BEGIN:VEVENT
DTSTART;VALUE=DATE:20260405
DTEND;VALUE=DATE:20260406
DTSTAMP:20260421T035233
CREATED:20250817T191319Z
LAST-MODIFIED:20260327T090519Z
UID:20138-1775347200-1775433599@clamart.catholique.fr
SUMMARY:Dimanche de Pâques
DESCRIPTION:5 avril 2026:\nMesses à 10h à St Joseph et 11h à St Pierre-St Paul (Attention ! Pas de messe à 18h)
URL:https://clamart.catholique.fr/event/toussaint-13-25-2/
CATEGORIES:Vie de la paroisse
ATTACH;FMTTYPE=image/png:https://clamart.catholique.fr/wp-content/uploads/2025/04/Dimanche-de-Paques.png
END:VEVENT
BEGIN:VEVENT
DTSTART;VALUE=DATE:20260404
DTEND;VALUE=DATE:20260405
DTSTAMP:20260421T035233
CREATED:20260314T110521Z
LAST-MODIFIED:20260407T181518Z
UID:22185-1775260800-1775347199@clamart.catholique.fr
SUMMARY:Prions pour ceux qui recevront les sacrements de l’initiation chrétienne lors de la Vigile Pascale dans notre paroisse
DESCRIPTION:Adèle (en 6ème)\, Telma (en Tale)\, Ingrid\, Julien et Thibault\, prions pour eux\, ainsi que pour les adolescents Hugo (en 4ème)\, frère d’Adèle\, qui recevra l’eucharistie\, et Lilou (en Tale) et Gaspard qui recevront la confirmation lors de la vigile pascale.
URL:https://clamart.catholique.fr/event/prier-pour-ceux-qui-recevront-les-sacrements-de-linitiation-chretienne-lors-de-la-vigile-pascale-dans-notre-paroisse/
ATTACH;FMTTYPE=image/jpeg:https://clamart.catholique.fr/wp-content/uploads/2026/03/Bapteme.jpg
END:VEVENT
BEGIN:VEVENT
DTSTART;VALUE=DATE:20260404
DTEND;VALUE=DATE:20260405
DTSTAMP:20260421T035233
CREATED:20260301T091135Z
LAST-MODIFIED:20260407T181426Z
UID:22151-1775260800-1775347199@clamart.catholique.fr
SUMMARY:Accueillir les bénéficiaires des Paniers du Moulin.
DESCRIPTION:Samedi 4 avril\, de 8h45 à 11h\, 54 rue du Moulin de Pierre. \nEt si\, pendant le carême\, je décidais de consacrer un samedi matin aux Paniers du Moulin… Ma mission ? Assurer un accueil chaleureux à un petit groupe de deux ou trois bénéficiaires\, pendant le temps de l’attente\, dans la cour. Inscription : https://lite.framacalc.org/rcxqgdly6f-ajjm \n  \n  \n 
URL:https://clamart.catholique.fr/event/accueillir-les-beneficiaires-des-paniers-du-moulin/
ATTACH;FMTTYPE=image/jpeg:https://clamart.catholique.fr/wp-content/uploads/2022/03/logo-Paniersdumoulin-clr-10cm-fd-blanc-5.jpg
END:VEVENT
BEGIN:VEVENT
DTSTART;VALUE=DATE:20260404
DTEND;VALUE=DATE:20260405
DTSTAMP:20260421T035233
CREATED:20250817T191438Z
LAST-MODIFIED:20260327T090552Z
UID:20137-1775260800-1775347199@clamart.catholique.fr
SUMMARY:Samedi Saint
DESCRIPTION:4 avril 2026:\n– Office des ténèbres à 9h à l’église St Pierre-St Paul\n– Vigile Pascale à 21h\, église St Joseph (messe un peu plus longue que d’hab… » 3h)
URL:https://clamart.catholique.fr/event/toussaint-13-24-2/
CATEGORIES:Vie de la paroisse
ATTACH;FMTTYPE=image/png:https://clamart.catholique.fr/wp-content/uploads/2025/04/Samedi-Saint.png
END:VEVENT
BEGIN:VEVENT
DTSTART;VALUE=DATE:20260403
DTEND;VALUE=DATE:20260404
DTSTAMP:20260421T035233
CREATED:20260327T090940Z
LAST-MODIFIED:20260407T181512Z
UID:22304-1775174400-1775260799@clamart.catholique.fr
SUMMARY:Quête pour les Lieux Saints
DESCRIPTION:Ce vendredi saint 3 avril\, les chrétiens sont appelés à se tourner plus particulièrement vers les pays où vécut et mourut Jésus : la Terre Sainte. Cette quête est faite par toutes les églises du monde\, le vendredi saint\, pour aider les églises en Terre Sainte.
URL:https://clamart.catholique.fr/event/quete-pour-les-lieux-saints/
ATTACH;FMTTYPE=image/png:https://clamart.catholique.fr/wp-content/uploads/2025/04/quete.png
END:VEVENT
BEGIN:VEVENT
DTSTART;VALUE=DATE:20260403
DTEND;VALUE=DATE:20260404
DTSTAMP:20260421T035233
CREATED:20260317T194549Z
LAST-MODIFIED:20260407T181433Z
UID:22252-1775174400-1775260799@clamart.catholique.fr
SUMMARY:Chemin de Croix du Vendredi Saint
DESCRIPTION:12h30 de l’église Saint Joseph à l’église St Pierre-St Paul\, dans les rues de Clamart \nNous avons besoin d’aide : pour le service d’ordre\, pour l’animation des chants et la gestion de la sono\, pour le portement de la croix et des objets de la passion. Et de personnes pour distribuer des tracts expliquant notre démarche aux personnes que nous rencontrerons sur le parcours. Contact : Aude Collin 06 61 52 85 24 \n15h dans l’église St Joseph \n17h dans le jardin du presbytère St Pierre-St Paul : chemin de croix pour les enfants
URL:https://clamart.catholique.fr/event/chemin-de-croix-du-vendredi-saint/
ATTACH;FMTTYPE=image/png:https://clamart.catholique.fr/wp-content/uploads/2025/04/Vendredi-Saint.png
END:VEVENT
BEGIN:VEVENT
DTSTART;VALUE=DATE:20260403
DTEND;VALUE=DATE:20260404
DTSTAMP:20260421T035233
CREATED:20260210T185952Z
LAST-MODIFIED:20260327T085809Z
UID:22055-1775174400-1775260799@clamart.catholique.fr
SUMMARY:Chemin de Croix et Chapelet pendant le Carême
DESCRIPTION:Chemin de croix : chaque vendredi à 15h\, église St Pierre-St Paul\, animée par les religieuses. \nChapelet : chaque dimanche à 17h\, église St Pierre-St Paul
URL:https://clamart.catholique.fr/event/chemin-de-croix-et-chapelet-pendant-le-careme/
ATTACH;FMTTYPE=image/png:https://clamart.catholique.fr/wp-content/uploads/2025/04/Chemin-de-croix.png
END:VEVENT
BEGIN:VEVENT
DTSTART;VALUE=DATE:20260403
DTEND;VALUE=DATE:20260404
DTSTAMP:20260421T035233
CREATED:20250817T191732Z
LAST-MODIFIED:20260327T090332Z
UID:20136-1775174400-1775260799@clamart.catholique.fr
SUMMARY:Vendredi Saint
DESCRIPTION:3 avril 2026 :\n– Office des ténèbres à 7h à l’église St Joseph et 8h à l’église St Pierre St Paul\n– Office de la Passion à 20h30\, église St Pierre-St Paul
URL:https://clamart.catholique.fr/event/toussaint-13-23-2/
CATEGORIES:Vie de la paroisse
ATTACH;FMTTYPE=image/png:https://clamart.catholique.fr/wp-content/uploads/2025/04/Vendredi-Saint.png
END:VEVENT
BEGIN:VEVENT
DTSTART;VALUE=DATE:20260402
DTEND;VALUE=DATE:20260404
DTSTAMP:20260421T035233
CREATED:20260327T081956Z
LAST-MODIFIED:20260407T181500Z
UID:22281-1775088000-1775260799@clamart.catholique.fr
SUMMARY:Adoration nocturne du Jeudi Saint à Saint Joseph
DESCRIPTION:Du 2 avril au 3 avril 2026 \nComme l’an dernier\, après la messe du Jeudi Saint\, nous aurons la grâce de prolonger l’adoration toute la nuit\, jusqu’à l’office des Ténèbres à 7h. Ce temps de prière silencieuse et collective est une belle occasion de veiller avec le Christ\, dans l’esprit de Gethsémani. \nHoraires des créneaux d’adoration :\nLes inscriptions se font par tranches de 30 minutes\, de 23h à 7h. \nComment s’inscrire ?\nSur la page de l’adoration : https://clamart.catholique.fr/adoration/
URL:https://clamart.catholique.fr/event/adoration-nocturne-du-jeudi-saint-a-saint-joseph/
ATTACH;FMTTYPE=image/png:https://clamart.catholique.fr/wp-content/uploads/2025/04/Jeudi-Saint.png
END:VEVENT
BEGIN:VEVENT
DTSTART;VALUE=DATE:20260402
DTEND;VALUE=DATE:20260403
DTSTAMP:20260421T035233
CREATED:20250817T191823Z
LAST-MODIFIED:20260327T090259Z
UID:20135-1775088000-1775174399@clamart.catholique.fr
SUMMARY:Jeudi Saint
DESCRIPTION:2 avril 2026 : Commémoration de la Cène du Seigneur à 20h30\, église St Joseph\n(après la messe\, il sera possible de rester à l’église St Joseph auprès du Seigneur par l’adoration durant toute la nuit\, jusqu’à 7h)
URL:https://clamart.catholique.fr/event/jeudi-saint-2/
CATEGORIES:Vie de la paroisse
ATTACH;FMTTYPE=image/png:https://clamart.catholique.fr/wp-content/uploads/2025/04/Jeudi-Saint.png
END:VEVENT
BEGIN:VEVENT
DTSTART;VALUE=DATE:20260331
DTEND;VALUE=DATE:20260401
DTSTAMP:20260421T035233
CREATED:20260327T105928Z
LAST-MODIFIED:20260402T115021Z
UID:22322-1774915200-1775001599@clamart.catholique.fr
SUMMARY:Messe Chrismale
DESCRIPTION:Mardi 31 mars\, 18h30\, Cathédrale de Nanterre \nVous y êtes tous chaleureusement invités. Au cours de cette messe\, les prêtres et les diacres renouvellent les promesses de leur ordination et l’évêque consacre le Saint-Chrême\, utilisé tout au long de l’année liturgique pour les sacrements du baptême\, de la confirmation et de l’ordre. L’évêque y bénit également l’huile des malades et l’huile des catéchumènes.
URL:https://clamart.catholique.fr/event/messe-chrismale/
ATTACH;FMTTYPE=image/png:https://clamart.catholique.fr/wp-content/uploads/2025/04/messe.png
END:VEVENT
END:VCALENDAR