BEGIN:VCALENDAR
VERSION:2.0
PRODID:-//Paroisse Saint Pierre - Saint Paul et Saint Joseph de Clamart - ECPv6.15.20//NONSGML v1.0//EN
CALSCALE:GREGORIAN
METHOD:PUBLISH
X-ORIGINAL-URL:https://clamart.catholique.fr
X-WR-CALDESC:Évènements pour Paroisse Saint Pierre - Saint Paul et Saint Joseph de Clamart
REFRESH-INTERVAL;VALUE=DURATION:PT1H
X-Robots-Tag:noindex
X-PUBLISHED-TTL:PT1H
BEGIN:VTIMEZONE
TZID:Europe/Paris
BEGIN:DAYLIGHT
TZOFFSETFROM:+0100
TZOFFSETTO:+0200
TZNAME:CEST
DTSTART:20250330T010000
END:DAYLIGHT
BEGIN:STANDARD
TZOFFSETFROM:+0200
TZOFFSETTO:+0100
TZNAME:CET
DTSTART:20251026T010000
END:STANDARD
BEGIN:DAYLIGHT
TZOFFSETFROM:+0100
TZOFFSETTO:+0200
TZNAME:CEST
DTSTART:20260329T010000
END:DAYLIGHT
BEGIN:STANDARD
TZOFFSETFROM:+0200
TZOFFSETTO:+0100
TZNAME:CET
DTSTART:20261025T010000
END:STANDARD
BEGIN:DAYLIGHT
TZOFFSETFROM:+0100
TZOFFSETTO:+0200
TZNAME:CEST
DTSTART:20270328T010000
END:DAYLIGHT
BEGIN:STANDARD
TZOFFSETFROM:+0200
TZOFFSETTO:+0100
TZNAME:CET
DTSTART:20271031T010000
END:STANDARD
END:VTIMEZONE
BEGIN:VEVENT
DTSTART;VALUE=DATE:20260418
DTEND;VALUE=DATE:20260504
DTSTAMP:20260420T212512
CREATED:20250817T184910Z
LAST-MODIFIED:20250817T184910Z
UID:20115-1776470400-1777852799@clamart.catholique.fr
SUMMARY:Vacances scolaires
DESCRIPTION:
URL:https://clamart.catholique.fr/event/vacances-scolaires-5/
ATTACH;FMTTYPE=image/jpeg:https://clamart.catholique.fr/wp-content/uploads/2025/08/Vacances-scolaires.jpg
END:VEVENT
BEGIN:VEVENT
DTSTART;VALUE=DATE:20260424
DTEND;VALUE=DATE:20260425
DTSTAMP:20260420T212512
CREATED:20260415T153018Z
LAST-MODIFIED:20260415T153018Z
UID:22514-1776988800-1777075199@clamart.catholique.fr
SUMMARY:Messe de 7h du vendredi matin
DESCRIPTION:Attention ! La messe de 7h du vendredi 24 avril est annulée. Messe à 8h30 à St Pierre-St Paul.
URL:https://clamart.catholique.fr/event/messe-de-7h-du-vendredi-matin/
CATEGORIES:Vie de la paroisse info
ATTACH;FMTTYPE=image/jpeg:https://clamart.catholique.fr/wp-content/uploads/2026/04/Messe.jpg
END:VEVENT
BEGIN:VEVENT
DTSTART;VALUE=DATE:20260425
DTEND;VALUE=DATE:20260426
DTSTAMP:20260420T212512
CREATED:20260409T161556Z
LAST-MODIFIED:20260415T155814Z
UID:22469-1777075200-1777161599@clamart.catholique.fr
SUMMARY:Spectacle « Pier Giorgio Frassati\, un saint à l’image du Christ »
DESCRIPTION:Samedi 25 avril 2026\, 20h\, Notre Dame du Perpétuel Secours \n(31 Rue Albert 1er\, 92600 Asnières-sur-Seine) \nCette pièce de théâtre a été créée spécialement pour le Jubilé. Le spectacle est conçu et monté par la pastorale diocésaine des jeunes adultes en collaboration avec les Baladins de l’Évangile. \n  \nrecherchent pour la représentation du 25 avril une cinquantaine d’acteurs bénévoles. Ils n’auront pas à apprendre de texte puisque le spectacle est totalement pré-enregistré. Les acteurs peuvent être des enfants\, des adolescents et des adultes de tous âges. Aucun prérequis. \nIls doivent être présents le vendredi 24 dès 18h30 pour la présentation de la pièce et la distribution des rôles et le 25 avril : la journée pour les répétitions et la soirée pour la représentation. \nÉgalement à la recherche de bénévoles pour aider à la mise en place et au rangement\, ⁠à la gestion des acteurs\, à tenir la buvette à l’entracte. Que vous soyez acteurs\, bénévoles ou spectateurs\, il faut vous inscrire ici :  https://pgfrassati2026-asnieres.venio.fr/fr
URL:https://clamart.catholique.fr/event/spectacle-pier-giorgio-frassati-un-saint-a-limage-du-christ/
ATTACH;FMTTYPE=image/jpeg:https://clamart.catholique.fr/wp-content/uploads/2026/04/Capture-decran-2026-04-09-181619.jpg
END:VEVENT
BEGIN:VEVENT
DTSTART;VALUE=DATE:20260425
DTEND;VALUE=DATE:20260426
DTSTAMP:20260420T212512
CREATED:20260415T154357Z
LAST-MODIFIED:20260415T154357Z
UID:22528-1777075200-1777161599@clamart.catholique.fr
SUMMARY:Spectacle « Pier Giorgio Frassati\, un saint à l’image du Christ »
DESCRIPTION:Samedi 25 avril 2026\, 20h\, Notre Dame du Perpétuel Secours \n(31 Rue Albert 1er\, 92600 Asnières-sur-Seine) \nCette pièce de théâtre a été créée spécialement pour le Jubilé. Le spectacle est conçu et monté par la pastorale diocésaine des jeunes adultes en collaboration avec les Baladins de l’Évangile. \n  \nIls recherchent pour la représentation du 25 avril une cinquantaine d’acteurs bénévoles\, qui n’auront pas à apprendre de texte puisque le spectacle est totalement pré-enregistré. Les acteurs peuvent être des enfants\, des adolescents et des adultes de tous âges. Aucun prérequis. \nIls doivent être présents le vendredi 24 dès 18h30 pour la présentation de la pièce et la distribution des rôles et le 25 avril : la journée pour les répétitions et la soirée pour la représentation. \nÉgalement à la recherche de bénévoles pour aider à la mise en place et au rangement\, ⁠à la gestion des acteurs\, à tenir la buvette à l’entracte. Que vous soyez acteurs\, bénévoles ou spectateurs\, il faut vous inscrire ici :  https://pgfrassati2026-asnieres.venio.fr/fr
URL:https://clamart.catholique.fr/event/spectacle-pier-giorgio-frassati-un-saint-a-limage-du-christ-2/
CATEGORIES:Au-delà info
ATTACH;FMTTYPE=image/jpeg:https://clamart.catholique.fr/wp-content/uploads/2026/04/image.jpg
END:VEVENT
BEGIN:VEVENT
DTSTART;VALUE=DATE:20260426
DTEND;VALUE=DATE:20260427
DTSTAMP:20260420T212512
CREATED:20260122T195316Z
LAST-MODIFIED:20260409T152904Z
UID:21865-1777161600-1777247999@clamart.catholique.fr
SUMMARY:Messes À Clam’est Dieu !
DESCRIPTION:Messe animée par les jeunes 🩵 \nPour ne rien louper\, rejoignez-nous sur Instagram :\nhttps://www.instagram.com/a_clam_est_dieu?igsh=MTMyMHdidWlmaTFubQ%3D%3D&utm_source=qr
URL:https://clamart.catholique.fr/event/messes-a-clamest-dieu-3/
CATEGORIES:Vie de la paroisse info
ATTACH;FMTTYPE=image/png:https://clamart.catholique.fr/wp-content/uploads/2025/11/aclamestdieu.png
END:VEVENT
BEGIN:VEVENT
DTSTART;VALUE=DATE:20260426
DTEND;VALUE=DATE:20260427
DTSTAMP:20260420T212512
CREATED:20260409T153048Z
LAST-MODIFIED:20260409T153115Z
UID:22455-1777161600-1777247999@clamart.catholique.fr
SUMMARY:Messe des jeunes
DESCRIPTION:Dimanche 26 avril\, 18h\, église Saint Joseph \nÉtudiants et jeunes pro\, la messe des jeunes est tout spécialement pour vous ! Si vous souhaitez rejoindre l’équipe d’organisation\, contactez Jeanne au 06 51 41 77 29.
URL:https://clamart.catholique.fr/event/messe-des-jeunes-2/
CATEGORIES:Vie de la paroisse info
ATTACH;FMTTYPE=image/png:https://clamart.catholique.fr/wp-content/uploads/2025/04/messe.png
END:VEVENT
BEGIN:VEVENT
DTSTART;VALUE=DATE:20260501
DTEND;VALUE=DATE:20260502
DTSTAMP:20260420T212512
CREATED:20250817T200238Z
LAST-MODIFIED:20250817T200238Z
UID:20188-1777593600-1777679999@clamart.catholique.fr
SUMMARY:Fête du Travail
DESCRIPTION:
URL:https://clamart.catholique.fr/event/fete-du-travail/
CATEGORIES:Vie de la paroisse
ATTACH;FMTTYPE=image/png:https://clamart.catholique.fr/wp-content/uploads/2024/07/Information.png
END:VEVENT
BEGIN:VEVENT
DTSTART;VALUE=DATE:20260505
DTEND;VALUE=DATE:20260506
DTSTAMP:20260420T212512
CREATED:20260415T153411Z
LAST-MODIFIED:20260415T153440Z
UID:22518-1777939200-1778025599@clamart.catholique.fr
SUMMARY:Parcours Timothée : Découvrez ou redécouvrez la foi chrétienne !
DESCRIPTION:Mardi 5 mai\, 20h15\, Salle Notre Dame\, Maison paroissiale St Pierre-St Paul \nOuvert à tous ceux qui démarrent ou redémarrent dans la Foi et l’Eglise. Mieux comprendre\, ensemble\, l’Église\, la messe\, la Bible… Topos\, échanges\, témoignage… Ni inscription\, ni engagement. Contact : cure@clamart.catholique.fr
URL:https://clamart.catholique.fr/event/parcours-timothee-decouvrez-ou-redecouvrez-la-foi-chretienne-5/
CATEGORIES:Vie de la paroisse info
ATTACH;FMTTYPE=image/png:https://clamart.catholique.fr/wp-content/uploads/2025/03/parcours-Thimothee.png
END:VEVENT
BEGIN:VEVENT
DTSTART;VALUE=DATE:20260506
DTEND;VALUE=DATE:20260507
DTSTAMP:20260420T212512
CREATED:20250901T064610Z
LAST-MODIFIED:20260412T160728Z
UID:20456-1778025600-1778111999@clamart.catholique.fr
SUMMARY:Abbe mousse papas
DESCRIPTION:Jeudi 16 avril\, à partir de 19h45\, Salle Notre Dame\, Maison paroissiale St Pierre-St Paul \nTemps fraternel pour les hommes de tous âges. Contact : abmp.clamart@gmail.com
URL:https://clamart.catholique.fr/event/abbe-mousse-papas-2-8/
CATEGORIES:Vie de la paroisse top
ATTACH;FMTTYPE=image/png:https://clamart.catholique.fr/wp-content/uploads/2025/09/AbbeMoussePapasClamart.png
END:VEVENT
BEGIN:VEVENT
DTSTART;VALUE=DATE:20260506
DTEND;VALUE=DATE:20260507
DTSTAMP:20260420T212512
CREATED:20260415T153611Z
LAST-MODIFIED:20260415T153611Z
UID:22520-1778025600-1778111999@clamart.catholique.fr
SUMMARY:Abbé Mousse Papas
DESCRIPTION:Jeudi 6 mai\, à partir de 19h45\, Salle Notre Dame\, Maison paroissiale St Pierre-St Paul \nTemps fraternel pour les hommes de tous âges. Contact : abmp.clamart@gmail.com
URL:https://clamart.catholique.fr/event/abbe-mousse-papas-3/
CATEGORIES:Vie de la paroisse info
ATTACH;FMTTYPE=image/png:https://clamart.catholique.fr/wp-content/uploads/2025/09/AbbeMoussePapasClamart.png
END:VEVENT
BEGIN:VEVENT
DTSTART;VALUE=DATE:20260508
DTEND;VALUE=DATE:20260509
DTSTAMP:20260420T212512
CREATED:20250817T200349Z
LAST-MODIFIED:20250817T200349Z
UID:20190-1778198400-1778284799@clamart.catholique.fr
SUMMARY:Victoire 1945
DESCRIPTION:
URL:https://clamart.catholique.fr/event/victoire-1945/
CATEGORIES:Vie de la paroisse
ATTACH;FMTTYPE=image/png:https://clamart.catholique.fr/wp-content/uploads/2024/07/Information.png
END:VEVENT
BEGIN:VEVENT
DTSTART;VALUE=DATE:20260510
DTEND;VALUE=DATE:20260511
DTSTAMP:20260420T212512
CREATED:20250817T194832Z
LAST-MODIFIED:20260409T152716Z
UID:20167-1778371200-1778457599@clamart.catholique.fr
SUMMARY:Accueil des nouveaux arrivants
DESCRIPTION:Dimanche 10 mai\, 12h30\, Salle Notre Dame\, Maison paroissiale St Pierre-St Paul  \nVous rejoignez la communauté catholique St Pierre-St Paul et St Joseph de Clamart. Pour vous souhaiter la bienvenue\, vous êtes invité à un apéritif déjeunatoire. Vous pouvez signaler votre venue par sms à Guillaume Bourdel au 06 48 17 50 18. N’hésitez pas à nous rejoindre\, même à la dernière minute.
URL:https://clamart.catholique.fr/event/accueil-des-nouveaux-arrivants-2-copy-2-2-2/
CATEGORIES:Vie de la paroisse,Vie de la paroisse info
ATTACH;FMTTYPE=image/jpeg:https://clamart.catholique.fr/wp-content/uploads/2024/07/cathopic_1537409470278988-scaled.jpg
END:VEVENT
BEGIN:VEVENT
DTSTART;VALUE=DATE:20260510
DTEND;VALUE=DATE:20260511
DTSTAMP:20260420T212512
CREATED:20250817T195412Z
LAST-MODIFIED:20260402T115937Z
UID:20180-1778371200-1778457599@clamart.catholique.fr
SUMMARY:Prière des Frères
DESCRIPTION:Dimanche 10 mai 2026\, à l’église St Pierre – St Paul après la messe de 11h \nVenez profiter de cette prière réconfortante où des paroissiens formés vous proposent de prier pour vous. \nQu’est-ce que la prière des frères ? C’est être entouré quelques minutes de frères chrétiens et se confier dans la foi\, à leur intercession auprès du SEIGNEUR\, les entendre prier pour soi à voix haute\, écouter le Saint-Esprit parler.  Tous ceux qui ont vécu la prière des frères en gardent la marque du passage de la grâce de Dieu : paix\, joie\, tendresse\, guérison\, apaisement\, libération\, …
URL:https://clamart.catholique.fr/event/priere-des-freres-6-2-2-2-2-2-2/
CATEGORIES:Vie de la paroisse,Vie de la paroisse info
ATTACH;FMTTYPE=image/jpeg:https://clamart.catholique.fr/wp-content/uploads/2024/07/pexels-cottonbro-studio-9577187-scaled.jpg
END:VEVENT
BEGIN:VEVENT
DTSTART;VALUE=DATE:20260510
DTEND;VALUE=DATE:20260511
DTSTAMP:20260420T212512
CREATED:20250817T195651Z
LAST-MODIFIED:20260415T153646Z
UID:20183-1778371200-1778457599@clamart.catholique.fr
SUMMARY:Éveil à la Foi
DESCRIPTION:Dimanche 10 mai\, à l’église St Pierre-St Paul\, pendant la messe de 11h. \nContact St Pierre-St Paul : Laurent Borie : 06 30 94 73 01 \nAttention ! Pas d’éveil à la foi à l’église St Joseph.
URL:https://clamart.catholique.fr/event/eveil-a-la-foi-6-2-2-2-2-2-2/
CATEGORIES:Vie de la paroisse,Vie de la paroisse info
ATTACH;FMTTYPE=image/jpeg:https://clamart.catholique.fr/wp-content/uploads/2024/04/groupe.jpg
END:VEVENT
BEGIN:VEVENT
DTSTART;VALUE=DATE:20260510
DTEND;VALUE=DATE:20260511
DTSTAMP:20260420T212512
CREATED:20260415T154523Z
LAST-MODIFIED:20260415T154523Z
UID:22530-1778371200-1778457599@clamart.catholique.fr
SUMMARY:Soirée sur les vocations
DESCRIPTION:Dimanche 10 mai\, de 18h30 à 22h\, église St Justin (1 place d’Estiennes d’Orves 92300 Levallois) \nSoirée d’interpellation pour parler sacerdoce\, vie religieuse et consacrée. \nPour les jeunes garçons / jeunes filles\, jeunes hommes / jeunes femmes. \nMesse à 18h30\, partage et témoignages en groupes d’âge non-mixtes\, questions avec l’évêque\, dîner… Inscriptions : avant le 5 mai vocation@diocese92.fr
URL:https://clamart.catholique.fr/event/soiree-sur-les-vocations/
CATEGORIES:Au-delà info
ATTACH;FMTTYPE=image/jpeg:https://clamart.catholique.fr/wp-content/uploads/2026/04/Capture-decran-2026-04-15-172358.jpg
END:VEVENT
BEGIN:VEVENT
DTSTART;VALUE=DATE:20260512
DTEND;VALUE=DATE:20260513
DTSTAMP:20260420T212512
CREATED:20260415T153854Z
LAST-MODIFIED:20260415T153854Z
UID:22523-1778544000-1778630399@clamart.catholique.fr
SUMMARY:Fête de Notre-Dame de Fatima
DESCRIPTION:Mardi 12 mai\, 20h30\, église St Pierre-St Paul \nPour célébrer les apparitions de la Vierge Marie aux jeunes bergers de Fátima\, la Communauté Catholique Portugaise de Clamart vous convie à prier le chapelet suivi d’une procession. Nous vous espérons nombreux pour vivre ce moment dans la joie et la fraternité (une vente de bougies se fera sur place. Prévoir de la monnaie).
URL:https://clamart.catholique.fr/event/fete-de-notre-dame-de-fatima/
CATEGORIES:Vie de la paroisse info
ATTACH;FMTTYPE=image/jpeg:https://clamart.catholique.fr/wp-content/uploads/2026/04/Notre-Dame-de-Fatima.jpg
END:VEVENT
BEGIN:VEVENT
DTSTART;VALUE=DATE:20260514
DTEND;VALUE=DATE:20260515
DTSTAMP:20260420T212512
CREATED:20250817T195259Z
LAST-MODIFIED:20260402T115937Z
UID:20163-1778716800-1778803199@clamart.catholique.fr
SUMMARY:Ascension
DESCRIPTION:jeudi 14 mai 2026
URL:https://clamart.catholique.fr/event/toussaint-13-34-2/
CATEGORIES:Vie de la paroisse,Vie de la paroisse info
ATTACH;FMTTYPE=image/jpeg:https://clamart.catholique.fr/wp-content/uploads/2024/07/Blue-Elegant-Ascension-Day-Of-jesus-Christ-Instagram-Story-Sticker-carre.jpg
END:VEVENT
BEGIN:VEVENT
DTSTART;VALUE=DATE:20260517
DTEND;VALUE=DATE:20260518
DTSTAMP:20260420T212512
CREATED:20260122T195351Z
LAST-MODIFIED:20260122T195409Z
UID:21866-1778976000-1779062399@clamart.catholique.fr
SUMMARY:Messes À Clam’est Dieu !
DESCRIPTION:Messe animée par les jeunes 🩵 \nPour ne rien louper\, rejoignez-nous sur Instagram :\nhttps://www.instagram.com/a_clam_est_dieu?igsh=MTMyMHdidWlmaTFubQ%3D%3D&utm_source=qr
URL:https://clamart.catholique.fr/event/messes-a-clamest-dieu-4/
ATTACH;FMTTYPE=image/png:https://clamart.catholique.fr/wp-content/uploads/2025/11/aclamestdieu.png
END:VEVENT
BEGIN:VEVENT
DTSTART;VALUE=DATE:20260522
DTEND;VALUE=DATE:20260524
DTSTAMP:20260420T212512
CREATED:20250817T193813Z
LAST-MODIFIED:20260104T162558Z
UID:20157-1779408000-1779580799@clamart.catholique.fr
SUMMARY:24h d’adoration
DESCRIPTION:Du vendredi 22 mai 2026\, au 23 mai 2026\, église St Joseph \nInscription : https://clamart.catholique.fr/adoration/ \nContact : adorationclamart@gmail.com \nLaure LAFONT : 06 49 44 78 49
URL:https://clamart.catholique.fr/event/24h-dadoration-8-2-2-2-2-3-2-2-3/
CATEGORIES:Vie de la paroisse
ATTACH;FMTTYPE=image/png:https://clamart.catholique.fr/wp-content/uploads/2024/09/Post-Instagram-Facebook-plaisirs-de-lete-fenetre-ouverte-photo-vert-1.png
END:VEVENT
BEGIN:VEVENT
DTSTART;VALUE=DATE:20260524
DTEND;VALUE=DATE:20260525
DTSTAMP:20260420T212512
CREATED:20250817T195031Z
LAST-MODIFIED:20250817T195031Z
UID:20165-1779580800-1779667199@clamart.catholique.fr
SUMMARY:Dimanche de la Pentecôte
DESCRIPTION:dimanche 24 mai 2026 \n 
URL:https://clamart.catholique.fr/event/toussaint-13-35-2/
CATEGORIES:Vie de la paroisse
ATTACH;FMTTYPE=image/jpeg:https://clamart.catholique.fr/wp-content/uploads/2023/12/20231209_120332-scaled.jpg
END:VEVENT
BEGIN:VEVENT
DTSTART;VALUE=DATE:20260524
DTEND;VALUE=DATE:20260525
DTSTAMP:20260420T212512
CREATED:20260415T153304Z
LAST-MODIFIED:20260415T153304Z
UID:22516-1779580800-1779667199@clamart.catholique.fr
SUMMARY:Chapelet pendant le temps pascal
DESCRIPTION:Tous les dimanches de mai\, 17h\, église St Pierre-St Paul
URL:https://clamart.catholique.fr/event/chapelet-pendant-le-temps-pascal/
CATEGORIES:Vie de la paroisse info
ATTACH;FMTTYPE=image/png:https://clamart.catholique.fr/wp-content/uploads/2025/09/chapelet.png
END:VEVENT
BEGIN:VEVENT
DTSTART;VALUE=DATE:20260525
DTEND;VALUE=DATE:20260526
DTSTAMP:20260420T212512
CREATED:20250817T195156Z
LAST-MODIFIED:20250817T195156Z
UID:20164-1779667200-1779753599@clamart.catholique.fr
SUMMARY:Lundi de Pentecôte
DESCRIPTION:Lundi 25 mai 2026
URL:https://clamart.catholique.fr/event/toussaint-13-36-2/
CATEGORIES:Vie de la paroisse
ATTACH;FMTTYPE=image/png:https://clamart.catholique.fr/wp-content/uploads/2024/07/Information.png
END:VEVENT
BEGIN:VEVENT
DTSTART;VALUE=DATE:20260529
DTEND;VALUE=DATE:20260530
DTSTAMP:20260420T212512
CREATED:20250817T200946Z
LAST-MODIFIED:20250817T200946Z
UID:20196-1780012800-1780099199@clamart.catholique.fr
SUMMARY:veillée de prière du groupe "venez et voyez"
DESCRIPTION:Vendredi 29 mai 2026\, 20h45\, église Saint Joseph. \nVenez rendre grâce et louer le Seigneur\, méditer en groupe la Parole de Dieu\, confier à Jésus cette année en l’adorant\, vous laisser guérir par la miséricorde du Christ dans la confession et porter dans la prière des frères… Il vous attend !
URL:https://clamart.catholique.fr/event/veillee-pour-le-congres-mission-a-chatillon-28-09-2-2-2-2-2-2-2-2-2-2-2-2-2/
CATEGORIES:Vie de la paroisse
ATTACH;FMTTYPE=image/png:https://clamart.catholique.fr/wp-content/uploads/2024/10/Capture-decran-2024-10-17-160234.png
END:VEVENT
BEGIN:VEVENT
DTSTART;VALUE=DATE:20260530
DTEND;VALUE=DATE:20260531
DTSTAMP:20260420T212512
CREATED:20250817T201207Z
LAST-MODIFIED:20250818T141733Z
UID:20195-1780099200-1780185599@clamart.catholique.fr
SUMMARY:Café espérance
DESCRIPTION:Samedi 30 mai 2026\, 16h30\, Salle Saint Nicolas\, Maison Paroissiale St Pierre-St Paul \nPour vous\, qui avez récemment perdu un proche\, vous êtes invité à un temps de partage fraternel.
URL:https://clamart.catholique.fr/event/cafe-esperance-even-2/
CATEGORIES:Vie de la paroisse
ATTACH;FMTTYPE=image/jpeg:https://clamart.catholique.fr/wp-content/uploads/2024/07/cathopic_1537500204381317-scaled.jpg
END:VEVENT
BEGIN:VEVENT
DTSTART;VALUE=DATE:20260530
DTEND;VALUE=DATE:20260531
DTSTAMP:20260420T212512
CREATED:20250817T201303Z
LAST-MODIFIED:20250817T201303Z
UID:20193-1780099200-1780185599@clamart.catholique.fr
SUMMARY:Ciné-débats des Collégiens
DESCRIPTION:Le samedi 30 mai 2026 de 18h à 21h\, crypte de l’église Saint Joseph.\nLes  collégiens  sont  conviés  à  un « moment ciné » suivi d’un dîner de pizzas\, d’un débat autour du film\, et d’un temps de prière finale.
URL:https://clamart.catholique.fr/event/cine-debats-des-collegiens-7-2-2-2-2-2/
CATEGORIES:Vie de la paroisse
ATTACH;FMTTYPE=image/png:https://clamart.catholique.fr/wp-content/uploads/2024/09/Post-Instagram-Facebook-plaisirs-de-lete-fenetre-ouverte-photo-vert-2.png
END:VEVENT
BEGIN:VEVENT
DTSTART;VALUE=DATE:20260531
DTEND;VALUE=DATE:20260601
DTSTAMP:20260420T212512
CREATED:20250817T194927Z
LAST-MODIFIED:20250817T200523Z
UID:20166-1780185600-1780271999@clamart.catholique.fr
SUMMARY:Sainte-Trinité
DESCRIPTION:Dimanche 31 mai 2026
URL:https://clamart.catholique.fr/event/toussaint-13-40-2/
CATEGORIES:Vie de la paroisse
ATTACH;FMTTYPE=image/png:https://clamart.catholique.fr/wp-content/uploads/2024/07/Information.png
END:VEVENT
BEGIN:VEVENT
DTSTART;VALUE=DATE:20260531
DTEND;VALUE=DATE:20260601
DTSTAMP:20260420T212512
CREATED:20260409T153248Z
LAST-MODIFIED:20260417T114510Z
UID:22458-1780185600-1780271999@clamart.catholique.fr
SUMMARY:Concile provincial sur les catéchumènes et néophytes
DESCRIPTION:Dimanche 31 mai\, après-midi\, Maison paroissiale St Pierre-St Paul \nSur notre paroisse\, en quelques années\, nous sommes passés d’une douzaine de catéchumènes à… 65 demandes\, dont beaucoup de jeunes ! Cette tendance se retrouve partout. Les évêques d’Ile-de-France ont appelé à réunir un Concile Provincial afin de discerner\, sous l’action de l’Esprit-Saint\, comment nous adapter pour mieux accueillir\, accompagner et former les catéchumènes et néophytes. Toutes les paroisses d’Ile de France sont appelées à se mobiliser pour contribuer à cette réflexion. Venez ce 31 mai apporter votre expérience\, vos suggestions\, vos réactions…
URL:https://clamart.catholique.fr/event/concile-clamart3105/
CATEGORIES:Vie de la paroisse top
ATTACH;FMTTYPE=image/jpeg:https://clamart.catholique.fr/wp-content/uploads/2026/04/Divers.jpg
END:VEVENT
BEGIN:VEVENT
DTSTART;VALUE=DATE:20260603
DTEND;VALUE=DATE:20260604
DTSTAMP:20260420T212512
CREATED:20260409T161901Z
LAST-MODIFIED:20260409T161901Z
UID:22472-1780444800-1780531199@clamart.catholique.fr
SUMMARY:Veillée de prière pour la vie
DESCRIPTION:Mercredi 3 juin à 19h30 à Notre-Dame de Paris \nAvec les évêques d’Ile-de-France \nPrière\, adoration\, témoignages sur le thème : « Ravive en toi le don gratuit de Dieu » (1 Tm 1\, 6)
URL:https://clamart.catholique.fr/event/veillee-de-priere-pour-la-vie/
CATEGORIES:Au-delà info
ATTACH;FMTTYPE=image/jpeg:https://clamart.catholique.fr/wp-content/uploads/2025/04/veiller-pour-la-vie.jpg
END:VEVENT
BEGIN:VEVENT
DTSTART;VALUE=DATE:20260604
DTEND;VALUE=DATE:20260605
DTSTAMP:20260420T212512
CREATED:20250901T064702Z
LAST-MODIFIED:20250901T064702Z
UID:20457-1780531200-1780617599@clamart.catholique.fr
SUMMARY:Abbe mousse papas
DESCRIPTION:Jeudi 4 juin 2026 – 19:45 – 22:00 à St-Pierre-St-Paul. \nTemps fraternel pour les hommes de tous âges. \nLe programme : \n\nMousse: partage d’un apéro convivial fourni par la paroisse.\nAbbé: enseignement par le Père Thomas ou un intervenant.\nPapas: temps de partage et d’échanges\, suivi d’un temps de prière et de louange.\n\nParticipation libre aux frais.
URL:https://clamart.catholique.fr/event/abbe-mousse-papas-2/
CATEGORIES:Vie de la paroisse
ATTACH;FMTTYPE=image/png:https://clamart.catholique.fr/wp-content/uploads/2025/09/AbbeMoussePapasClamart.png
END:VEVENT
BEGIN:VEVENT
DTSTART;VALUE=DATE:20260606
DTEND;VALUE=DATE:20260607
DTSTAMP:20260420T212512
CREATED:20250817T201802Z
LAST-MODIFIED:20250817T201802Z
UID:20207-1780704000-1780790399@clamart.catholique.fr
SUMMARY:Marche pour Jésus (Paris)
DESCRIPTION:
URL:https://clamart.catholique.fr/event/marche-pour-jesus-paris/
CATEGORIES:Au-delà
END:VEVENT
END:VCALENDAR