BEGIN:VCALENDAR
VERSION:2.0
PRODID:-//Paroisse Saint Pierre - Saint Paul et Saint Joseph de Clamart - ECPv6.15.20//NONSGML v1.0//EN
CALSCALE:GREGORIAN
METHOD:PUBLISH
X-ORIGINAL-URL:https://clamart.catholique.fr
X-WR-CALDESC:Évènements pour Paroisse Saint Pierre - Saint Paul et Saint Joseph de Clamart
REFRESH-INTERVAL;VALUE=DURATION:PT1H
X-Robots-Tag:noindex
X-PUBLISHED-TTL:PT1H
BEGIN:VTIMEZONE
TZID:Europe/Paris
BEGIN:DAYLIGHT
TZOFFSETFROM:+0100
TZOFFSETTO:+0200
TZNAME:CEST
DTSTART:20250330T010000
END:DAYLIGHT
BEGIN:STANDARD
TZOFFSETFROM:+0200
TZOFFSETTO:+0100
TZNAME:CET
DTSTART:20251026T010000
END:STANDARD
BEGIN:DAYLIGHT
TZOFFSETFROM:+0100
TZOFFSETTO:+0200
TZNAME:CEST
DTSTART:20260329T010000
END:DAYLIGHT
BEGIN:STANDARD
TZOFFSETFROM:+0200
TZOFFSETTO:+0100
TZNAME:CET
DTSTART:20261025T010000
END:STANDARD
BEGIN:DAYLIGHT
TZOFFSETFROM:+0100
TZOFFSETTO:+0200
TZNAME:CEST
DTSTART:20270328T010000
END:DAYLIGHT
BEGIN:STANDARD
TZOFFSETFROM:+0200
TZOFFSETTO:+0100
TZNAME:CET
DTSTART:20271031T010000
END:STANDARD
END:VTIMEZONE
BEGIN:VEVENT
DTSTART;VALUE=DATE:20260530
DTEND;VALUE=DATE:20260531
DTSTAMP:20260421T161321
CREATED:20250817T201303Z
LAST-MODIFIED:20250817T201303Z
UID:20193-1780099200-1780185599@clamart.catholique.fr
SUMMARY:Ciné-débats des Collégiens
DESCRIPTION:Le samedi 30 mai 2026 de 18h à 21h\, crypte de l’église Saint Joseph.\nLes  collégiens  sont  conviés  à  un « moment ciné » suivi d’un dîner de pizzas\, d’un débat autour du film\, et d’un temps de prière finale.
URL:https://clamart.catholique.fr/event/cine-debats-des-collegiens-7-2-2-2-2-2/
CATEGORIES:Vie de la paroisse
ATTACH;FMTTYPE=image/png:https://clamart.catholique.fr/wp-content/uploads/2024/09/Post-Instagram-Facebook-plaisirs-de-lete-fenetre-ouverte-photo-vert-2.png
END:VEVENT
BEGIN:VEVENT
DTSTART;VALUE=DATE:20260531
DTEND;VALUE=DATE:20260601
DTSTAMP:20260421T161321
CREATED:20250817T194927Z
LAST-MODIFIED:20250817T200523Z
UID:20166-1780185600-1780271999@clamart.catholique.fr
SUMMARY:Sainte-Trinité
DESCRIPTION:Dimanche 31 mai 2026
URL:https://clamart.catholique.fr/event/toussaint-13-40-2/
CATEGORIES:Vie de la paroisse
ATTACH;FMTTYPE=image/png:https://clamart.catholique.fr/wp-content/uploads/2024/07/Information.png
END:VEVENT
BEGIN:VEVENT
DTSTART;VALUE=DATE:20260531
DTEND;VALUE=DATE:20260601
DTSTAMP:20260421T161321
CREATED:20260409T153248Z
LAST-MODIFIED:20260417T114510Z
UID:22458-1780185600-1780271999@clamart.catholique.fr
SUMMARY:Concile provincial sur les catéchumènes et néophytes
DESCRIPTION:Dimanche 31 mai\, après-midi\, Maison paroissiale St Pierre-St Paul \nSur notre paroisse\, en quelques années\, nous sommes passés d’une douzaine de catéchumènes à… 65 demandes\, dont beaucoup de jeunes ! Cette tendance se retrouve partout. Les évêques d’Ile-de-France ont appelé à réunir un Concile Provincial afin de discerner\, sous l’action de l’Esprit-Saint\, comment nous adapter pour mieux accueillir\, accompagner et former les catéchumènes et néophytes. Toutes les paroisses d’Ile de France sont appelées à se mobiliser pour contribuer à cette réflexion. Venez ce 31 mai apporter votre expérience\, vos suggestions\, vos réactions…
URL:https://clamart.catholique.fr/event/concile-clamart3105/
CATEGORIES:Vie de la paroisse top
ATTACH;FMTTYPE=image/jpeg:https://clamart.catholique.fr/wp-content/uploads/2026/04/Divers.jpg
END:VEVENT
BEGIN:VEVENT
DTSTART;VALUE=DATE:20260603
DTEND;VALUE=DATE:20260604
DTSTAMP:20260421T161321
CREATED:20260409T161901Z
LAST-MODIFIED:20260409T161901Z
UID:22472-1780444800-1780531199@clamart.catholique.fr
SUMMARY:Veillée de prière pour la vie
DESCRIPTION:Mercredi 3 juin à 19h30 à Notre-Dame de Paris \nAvec les évêques d’Ile-de-France \nPrière\, adoration\, témoignages sur le thème : « Ravive en toi le don gratuit de Dieu » (1 Tm 1\, 6)
URL:https://clamart.catholique.fr/event/veillee-de-priere-pour-la-vie/
CATEGORIES:Au-delà info
ATTACH;FMTTYPE=image/jpeg:https://clamart.catholique.fr/wp-content/uploads/2025/04/veiller-pour-la-vie.jpg
END:VEVENT
BEGIN:VEVENT
DTSTART;VALUE=DATE:20260604
DTEND;VALUE=DATE:20260605
DTSTAMP:20260421T161321
CREATED:20250901T064702Z
LAST-MODIFIED:20250901T064702Z
UID:20457-1780531200-1780617599@clamart.catholique.fr
SUMMARY:Abbe mousse papas
DESCRIPTION:Jeudi 4 juin 2026 – 19:45 – 22:00 à St-Pierre-St-Paul. \nTemps fraternel pour les hommes de tous âges. \nLe programme : \n\nMousse: partage d’un apéro convivial fourni par la paroisse.\nAbbé: enseignement par le Père Thomas ou un intervenant.\nPapas: temps de partage et d’échanges\, suivi d’un temps de prière et de louange.\n\nParticipation libre aux frais.
URL:https://clamart.catholique.fr/event/abbe-mousse-papas-2/
CATEGORIES:Vie de la paroisse
ATTACH;FMTTYPE=image/png:https://clamart.catholique.fr/wp-content/uploads/2025/09/AbbeMoussePapasClamart.png
END:VEVENT
BEGIN:VEVENT
DTSTART;VALUE=DATE:20260606
DTEND;VALUE=DATE:20260607
DTSTAMP:20260421T161321
CREATED:20250817T201802Z
LAST-MODIFIED:20250817T201802Z
UID:20207-1780704000-1780790399@clamart.catholique.fr
SUMMARY:Marche pour Jésus (Paris)
DESCRIPTION:
URL:https://clamart.catholique.fr/event/marche-pour-jesus-paris/
CATEGORIES:Au-delà
END:VEVENT
BEGIN:VEVENT
DTSTART;VALUE=DATE:20260607
DTEND;VALUE=DATE:20260608
DTSTAMP:20260421T161321
CREATED:20250817T194708Z
LAST-MODIFIED:20250817T194708Z
UID:20168-1780790400-1780876799@clamart.catholique.fr
SUMMARY:Saint-Sacrement
DESCRIPTION:Dimanche 7 Juin 2026
URL:https://clamart.catholique.fr/event/saint-sacrement-2/
CATEGORIES:Vie de la paroisse
ATTACH;FMTTYPE=image/jpeg:https://clamart.catholique.fr/wp-content/uploads/2024/07/page8_image1.jpg
END:VEVENT
BEGIN:VEVENT
DTSTART;VALUE=DATE:20260607
DTEND;VALUE=DATE:20260608
DTSTAMP:20260421T161321
CREATED:20250817T195511Z
LAST-MODIFIED:20250817T195511Z
UID:20162-1780790400-1780876799@clamart.catholique.fr
SUMMARY:Prière des Frères
DESCRIPTION:Dimanche 7 juin 2026\, à l’église St Pierre – St Paul après la messe de 11h \nVenez profiter de cette prière réconfortante où des paroissiens formés vous proposent de prier pour vous. \nQu’est-ce que la prière des frères ? C’est être entouré quelques minutes de frères chrétiens et se confier dans la foi\, à leur intercession auprès du SEIGNEUR\, les entendre prier pour soi à voix haute\, écouter le Saint-Esprit parler.  Tous ceux qui ont vécu la prière des frères en gardent la marque du passage de la grâce de Dieu : paix\, joie\, tendresse\, guérison\, apaisement\, libération\, …
URL:https://clamart.catholique.fr/event/priere-des-freres-6-2-2-2-2-2-3/
CATEGORIES:Vie de la paroisse
ATTACH;FMTTYPE=image/jpeg:https://clamart.catholique.fr/wp-content/uploads/2024/07/pexels-cottonbro-studio-9577187-scaled.jpg
END:VEVENT
BEGIN:VEVENT
DTSTART;VALUE=DATE:20260607
DTEND;VALUE=DATE:20260608
DTSTAMP:20260421T161321
CREATED:20260122T195500Z
LAST-MODIFIED:20260122T195500Z
UID:21867-1780790400-1780876799@clamart.catholique.fr
SUMMARY:Messes À Clam’est Dieu !
DESCRIPTION:Messe animée par les jeunes 🩵 \nPour ne rien louper\, rejoignez-nous sur Instagram :\nhttps://www.instagram.com/a_clam_est_dieu?igsh=MTMyMHdidWlmaTFubQ%3D%3D&utm_source=qr
URL:https://clamart.catholique.fr/event/messes-a-clamest-dieu-5/
ATTACH;FMTTYPE=image/png:https://clamart.catholique.fr/wp-content/uploads/2025/11/aclamestdieu.png
END:VEVENT
BEGIN:VEVENT
DTSTART;VALUE=DATE:20260609
DTEND;VALUE=DATE:20260610
DTSTAMP:20260421T161321
CREATED:20250817T194452Z
LAST-MODIFIED:20250817T194452Z
UID:20170-1780963200-1781049599@clamart.catholique.fr
SUMMARY:Assemblée Paroissiale
DESCRIPTION:St Joseph
URL:https://clamart.catholique.fr/event/assemblee-paroissiale-2-2/
CATEGORIES:Vie de la paroisse
ATTACH;FMTTYPE=image/jpeg:https://clamart.catholique.fr/wp-content/uploads/2024/01/infos-paroissiales.jpeg
END:VEVENT
BEGIN:VEVENT
DTSTART;VALUE=DATE:20260612
DTEND;VALUE=DATE:20260613
DTSTAMP:20260421T161321
CREATED:20250817T194600Z
LAST-MODIFIED:20250817T194610Z
UID:20169-1781222400-1781308799@clamart.catholique.fr
SUMMARY:Sacré-Cœur
DESCRIPTION:Vendredi 12 juin 2026
URL:https://clamart.catholique.fr/event/sacre-coeur-2/
CATEGORIES:Vie de la paroisse
ATTACH;FMTTYPE=image/png:https://clamart.catholique.fr/wp-content/uploads/2024/07/Information.png
END:VEVENT
BEGIN:VEVENT
DTSTART;VALUE=DATE:20260612
DTEND;VALUE=DATE:20260614
DTSTAMP:20260421T161321
CREATED:20250817T193934Z
LAST-MODIFIED:20260104T162535Z
UID:20156-1781222400-1781395199@clamart.catholique.fr
SUMMARY:24h d’adoration
DESCRIPTION:Du vendredi 12 juin 2026\, au 13 juin2026\, église St Pierre-St Paul  \nInscription : https://clamart.catholique.fr/adoration/ \nContact : adorationclamart@gmail.com \nLaure LAFONT : 06 49 44 78 49
URL:https://clamart.catholique.fr/event/24h-dadoration-8-2-2-2-2-3-2-2/
ATTACH;FMTTYPE=image/png:https://clamart.catholique.fr/wp-content/uploads/2024/09/Post-Instagram-Facebook-plaisirs-de-lete-fenetre-ouverte-photo-vert-1.png
END:VEVENT
BEGIN:VEVENT
DTSTART;VALUE=DATE:20260614
DTEND;VALUE=DATE:20260615
DTSTAMP:20260421T161321
CREATED:20250817T195731Z
LAST-MODIFIED:20250817T195731Z
UID:20161-1781395200-1781481599@clamart.catholique.fr
SUMMARY:Éveil à la Foi
DESCRIPTION:Dimanche 14 juin 2026\, dans les deux églises aux horaires de messes du matin.
URL:https://clamart.catholique.fr/event/eveil-a-la-foi-6-2-2-2-2-2-3/
CATEGORIES:Vie de la paroisse
ATTACH;FMTTYPE=image/jpeg:https://clamart.catholique.fr/wp-content/uploads/2024/04/groupe.jpg
END:VEVENT
BEGIN:VEVENT
DTSTART;VALUE=DATE:20260619
DTEND;VALUE=DATE:20260620
DTSTAMP:20260421T161321
CREATED:20250817T201109Z
LAST-MODIFIED:20250817T201109Z
UID:20197-1781827200-1781913599@clamart.catholique.fr
SUMMARY:veillée de prière du groupe "venez et voyez"
DESCRIPTION:Vendredi 19 juin 2026\, 20h45\, église Saint Joseph. \nVenez rendre grâce et louer le Seigneur\, méditer en groupe la Parole de Dieu\, confier à Jésus cette année en l’adorant\, vous laisser guérir par la miséricorde du Christ dans la confession et porter dans la prière des frères… Il vous attend !
URL:https://clamart.catholique.fr/event/veillee-pour-le-congres-mission-a-chatillon-28-09-2-2-2-2-2-2-2-2-2-2-2-2-3/
CATEGORIES:Vie de la paroisse
ATTACH;FMTTYPE=image/png:https://clamart.catholique.fr/wp-content/uploads/2024/10/Capture-decran-2024-10-17-160234.png
END:VEVENT
BEGIN:VEVENT
DTSTART;VALUE=DATE:20260620
DTEND;VALUE=DATE:20260621
DTSTAMP:20260421T161321
CREATED:20250817T201858Z
LAST-MODIFIED:20250817T202004Z
UID:20209-1781913600-1781999999@clamart.catholique.fr
SUMMARY:Ordinations sacerdotales (Cathédrale)
DESCRIPTION:
URL:https://clamart.catholique.fr/event/ordinations-sacerdotales-cathedrale/
CATEGORIES:Au-delà
ATTACH;FMTTYPE=image/png:https://clamart.catholique.fr/wp-content/uploads/2023/12/logo.png
END:VEVENT
BEGIN:VEVENT
DTSTART;VALUE=DATE:20260621
DTEND;VALUE=DATE:20260622
DTSTAMP:20260421T161321
CREATED:20250817T200844Z
LAST-MODIFIED:20250817T200844Z
UID:20198-1782000000-1782086399@clamart.catholique.fr
SUMMARY:Matinée pour Dieu
DESCRIPTION:Dimanche 21 Juin 2026\, 9h30\, à la maison paroissiale St Pierre-St Paul \nLes enfants du catéchisme et leurs familles sont invités à la Matinée pour Dieu. \nNous invitons tous les enfants pour la messe de 11h\, qui leur sera spécialement adaptée.
URL:https://clamart.catholique.fr/event/matinee-pour-dieu-2-2/
CATEGORIES:Vie de la paroisse
ATTACH;FMTTYPE=image/jpeg:https://clamart.catholique.fr/wp-content/uploads/2025/05/visuel-facebook-1080-x-1350-px-campagne-kt-2025-1229x1536-1.jpg
END:VEVENT
BEGIN:VEVENT
DTSTART;VALUE=DATE:20260627
DTEND;VALUE=DATE:20260628
DTSTAMP:20260421T161321
CREATED:20250817T201418Z
LAST-MODIFIED:20250817T201713Z
UID:20194-1782518400-1782604799@clamart.catholique.fr
SUMMARY:Ciné-débats des Collégiens
DESCRIPTION:Le samedi 27 juin 2026 de 18h à 21h\, crypte de l’église Saint Joseph.\nLes  collégiens  sont  conviés  à  un « moment ciné » suivi d’un dîner de pizzas\, d’un débat autour du film\, et d’un temps de prière finale.
URL:https://clamart.catholique.fr/event/cine-debats-des-collegiens-7-2-2-2-2-3/
CATEGORIES:Vie de la paroisse
ATTACH;FMTTYPE=image/png:https://clamart.catholique.fr/wp-content/uploads/2024/09/Post-Instagram-Facebook-plaisirs-de-lete-fenetre-ouverte-photo-vert-2.png
END:VEVENT
BEGIN:VEVENT
DTSTART;VALUE=DATE:20260628
DTEND;VALUE=DATE:20260629
DTSTAMP:20260421T161321
CREATED:20250817T201542Z
LAST-MODIFIED:20250817T202057Z
UID:20205-1782604800-1782691199@clamart.catholique.fr
SUMMARY:Biergarten 2026
DESCRIPTION:Saint Pierre et Saint Paul\nMesse unique le matin à SPSP (10h30)\nBiergarten (SPSP)
URL:https://clamart.catholique.fr/event/biergarten-2026/
CATEGORIES:Vie de la paroisse
ATTACH;FMTTYPE=image/png:https://clamart.catholique.fr/wp-content/uploads/2024/07/Information.png
END:VEVENT
BEGIN:VEVENT
DTSTART;VALUE=DATE:20260704
DTEND;VALUE=DATE:20260901
DTSTAMP:20260421T161321
CREATED:20250817T185007Z
LAST-MODIFIED:20250817T185007Z
UID:20117-1783123200-1788220799@clamart.catholique.fr
SUMMARY:Vacances scolaires
DESCRIPTION:
URL:https://clamart.catholique.fr/event/vacances-scolaires-6/
CATEGORIES:Vie de la paroisse
ATTACH;FMTTYPE=image/jpeg:https://clamart.catholique.fr/wp-content/uploads/2025/08/Vacances-scolaires.jpg
END:VEVENT
BEGIN:VEVENT
DTSTART;VALUE=DATE:20260706
DTEND;VALUE=DATE:20260709
DTSTAMP:20260421T161321
CREATED:20250901T065200Z
LAST-MODIFIED:20250901T065221Z
UID:20468-1783296000-1783555199@clamart.catholique.fr
SUMMARY:Pèlerinage des pères de famille
DESCRIPTION:5-6-7 juillet 2026
URL:https://clamart.catholique.fr/event/pelerinage-des-peres-de-famille/
CATEGORIES:Vie de la paroisse
ATTACH;FMTTYPE=image/png:https://clamart.catholique.fr/wp-content/uploads/2025/09/AbbeMoussePapasClamart.png
END:VEVENT
END:VCALENDAR